BEGIN:VCALENDAR
VERSION:2.0
PRODID:-//DRI - ECPv6.15.20//NONSGML v1.0//EN
CALSCALE:GREGORIAN
METHOD:PUBLISH
X-WR-CALNAME:DRI
X-ORIGINAL-URL:https://www.dri.edu
X-WR-CALDESC:Events for DRI
REFRESH-INTERVAL;VALUE=DURATION:PT1H
X-Robots-Tag:noindex
X-PUBLISHED-TTL:PT1H
BEGIN:VTIMEZONE
TZID:America/Los_Angeles
BEGIN:DAYLIGHT
TZOFFSETFROM:-0800
TZOFFSETTO:-0700
TZNAME:PDT
DTSTART:20250309T100000
END:DAYLIGHT
BEGIN:STANDARD
TZOFFSETFROM:-0700
TZOFFSETTO:-0800
TZNAME:PST
DTSTART:20251102T090000
END:STANDARD
BEGIN:DAYLIGHT
TZOFFSETFROM:-0800
TZOFFSETTO:-0700
TZNAME:PDT
DTSTART:20260308T100000
END:DAYLIGHT
BEGIN:STANDARD
TZOFFSETFROM:-0700
TZOFFSETTO:-0800
TZNAME:PST
DTSTART:20261101T090000
END:STANDARD
BEGIN:DAYLIGHT
TZOFFSETFROM:-0800
TZOFFSETTO:-0700
TZNAME:PDT
DTSTART:20270314T100000
END:DAYLIGHT
BEGIN:STANDARD
TZOFFSETFROM:-0700
TZOFFSETTO:-0800
TZNAME:PST
DTSTART:20271107T090000
END:STANDARD
END:VTIMEZONE
BEGIN:VEVENT
DTSTART;TZID=America/Los_Angeles:20260501T160000
DTEND;TZID=America/Los_Angeles:20260501T190000
DTSTAMP:20260425T202049
CREATED:20260414T223936Z
LAST-MODIFIED:20260414T223936Z
UID:10000555-1777651200-1777662000@www.dri.edu
SUMMARY:Community Partners at May the Science Be With You
DESCRIPTION:Calling all sci-fi fans and science enthusiasts! Join us on May 1st for an out-of-this-world experience! DRI and the Atomic Museum are teaming up to bring you a FREE\, family-friendly community event where science meets an epic space adventure. Don’t miss this chance to explore the wonders of the universe and experience an evening filled with discovery and fun—see you among the stars! \nVisit our community partner booths\, engage in science demos with DRI and Atomic Museum scientists\, and enjoy hands-on STEM activities for all ages with DRI’s Nevada Robotics and STEM Education Program. Community Partners include: \n\nCalPortland\nDISCOVERY Children’s Museum\nRed Rock Search and Rescue\nLas Vegas-Clark County Library District\nVegas PBS\nTule Springs Fossil Beds National Monument\nPublic Utilities Commission of Nevada\nKNPR\nUniversity Police Department\nStone Security\nThe Mob Museum\nHenderson Libraries\n\nOther events: View all events on our MTSBWY page! \n\nEngage in science demos with DRI and Atomic Museum scientists\nPhoto ops and light saber training with Star Wars fan and charity groups\nHands-on STEM activities for all ages\nCommunity partner booths\nFood Trucks\nLive music from Peaceful Retreat\n\nDRI in Partnership with the Atomic Museum and Sponsored by CalPortland. \nBy attending May the Science Be with You\, you acknowledge and consent to being photographed\, filmed\, or recorded by the event organizers and/or media. You further agree that your likeness\, image\, voice\, and name may be used in promotional materials\, publications\, and social media platforms without further permission or compensation. 
URL:https://www.dri.edu/event/community-partners-at-may-the-science-be-with-you-2026/
LOCATION:DRI\, Las Vegas Campus\, 755 E. Flamingo Rd.\, Las Vegas\, NV\, 89119\, United States
CATEGORIES:MTSBWY,STEM Community Events
ATTACH;FMTTYPE=image/jpeg:https://www.dri.edu/wp-content/uploads/2026-MTSBWY-Event-Community-Partners.jpg
END:VEVENT
BEGIN:VEVENT
DTSTART;TZID=America/Los_Angeles:20260527T170000
DTEND;TZID=America/Los_Angeles:20260527T183000
DTSTAMP:20260425T202049
CREATED:20251118T231155Z
LAST-MODIFIED:20260319T235443Z
UID:10000155-1779901200-1779906600@www.dri.edu
SUMMARY:STEM Professional Development Training: Truckee River Watershed: Water Quality and Groundwater
DESCRIPTION:In partnership with the Truckee Meadows Water Authority\, the Desert Research Institute STEM Education Program has created four virtual lessons! These virtual resources are flexible to allow for either self-directed student learning and exploration (flipped classroom) or teacher-directed instruction. This professional development training will lead educators through the online resources and allow educators to discuss how these resources could best be implemented in their classrooms. \nDate: Wednesday\, May 27\, 2026\nTime: 5:00pm – 6:30pm\nLocation: Virtual \nThis training is open to K-12 formal and informal educators. Educators who attend the session will be eligible for up to 1.5 Continuing Education hours. \nClick here to register: https://forms.gle/ZiM6cVC4J8qg9AMSA
URL:https://www.dri.edu/event/stem-pd-truckee-river-watershed-may-27/
LOCATION:Virtual
CATEGORIES:STEM Education Program,STEM Professional Development
ATTACH;FMTTYPE=image/jpeg:https://www.dri.edu/wp-content/uploads/Truckee-Watershed-Virtual-STEM-Curriculum-1.jpg
ORGANIZER;CN="STEM Education Program":MAILTO:STEMeducation@dri.edu
END:VEVENT
END:VCALENDAR