BEGIN:VCALENDAR
VERSION:2.0
PRODID:-//DRI - ECPv6.15.20//NONSGML v1.0//EN
CALSCALE:GREGORIAN
METHOD:PUBLISH
X-WR-CALNAME:DRI
X-ORIGINAL-URL:https://www.dri.edu
X-WR-CALDESC:Events for DRI
REFRESH-INTERVAL;VALUE=DURATION:PT1H
X-Robots-Tag:noindex
X-PUBLISHED-TTL:PT1H
BEGIN:VTIMEZONE
TZID:America/Los_Angeles
BEGIN:DAYLIGHT
TZOFFSETFROM:-0800
TZOFFSETTO:-0700
TZNAME:PDT
DTSTART:20240310T100000
END:DAYLIGHT
BEGIN:STANDARD
TZOFFSETFROM:-0700
TZOFFSETTO:-0800
TZNAME:PST
DTSTART:20241103T090000
END:STANDARD
BEGIN:DAYLIGHT
TZOFFSETFROM:-0800
TZOFFSETTO:-0700
TZNAME:PDT
DTSTART:20250309T100000
END:DAYLIGHT
BEGIN:STANDARD
TZOFFSETFROM:-0700
TZOFFSETTO:-0800
TZNAME:PST
DTSTART:20251102T090000
END:STANDARD
BEGIN:DAYLIGHT
TZOFFSETFROM:-0800
TZOFFSETTO:-0700
TZNAME:PDT
DTSTART:20260308T100000
END:DAYLIGHT
BEGIN:STANDARD
TZOFFSETFROM:-0700
TZOFFSETTO:-0800
TZNAME:PST
DTSTART:20261101T090000
END:STANDARD
END:VTIMEZONE
BEGIN:VEVENT
DTSTART;TZID=America/Los_Angeles:20250501T160000
DTEND;TZID=America/Los_Angeles:20250501T190000
DTSTAMP:20260419T153054
CREATED:20250424T224354Z
LAST-MODIFIED:20250424T224354Z
UID:10000104-1746115200-1746126000@www.dri.edu
SUMMARY:Photo Booth at May the Science Be With You
DESCRIPTION:Calling all Star Wars fans and science enthusiasts! Join us on May 1st for an out-of-this-world experience! DRI and the Atomic Museum are teaming up to bring you a FREE Family-Friendly Community Event where science meets the galaxy far\, far away!  Don’t miss this chance to explore science through the lens of Star Wars and join us for an evening of discovery and fun! May the force be with you! \nCapture the moment by stopping by the Photo Booth for pictures by Smash Booth! Whether cosplaying or using our Star Wars themed masks\, leave with a photo memory of the day.   \nOther events: View all events on our MTSBWY page! \n\nEngage in science demos with DRI and Atomic Museum scientists\nPhoto ops and light saber training with Star Wars fan and charity groups\nHands-on STEM activities for all ages\nCommunity partner booths\nFood Trucks\n\nDRI in Partnership with the Atomic Museum and Sponsored by CalPortland and Nevada Public Radio \n\nBy attending May the Science Be with You\, you acknowledge and consent to being photographed\, filmed\, or recorded by the event organizers and/or media. You further agree that your likeness\, image\, voice\, and name may be used in promotional materials\, publications\, and social media platforms without further permission or compensation. 
URL:https://www.dri.edu/event/mtsbwy2025-photo-booth/
LOCATION:DRI\, Las Vegas Campus\, 755 E. Flamingo Rd.\, Las Vegas\, NV\, 89119\, United States
CATEGORIES:MTSBWY
ATTACH;FMTTYPE=image/jpeg:https://www.dri.edu/wp-content/uploads/2025-MTSBWY-Smash-Booth-Event.jpg
END:VEVENT
BEGIN:VEVENT
DTSTART;TZID=America/Los_Angeles:20250501T160000
DTEND;TZID=America/Los_Angeles:20250501T190000
DTSTAMP:20260419T153054
CREATED:20250424T221602Z
LAST-MODIFIED:20250428T184129Z
UID:10000103-1746115200-1746126000@www.dri.edu
SUMMARY:Community Partners at May the Science Be With You
DESCRIPTION:Calling all Star Wars fans and science enthusiasts! Join us on May 1st for an out-of-this-world experience! DRI and the Atomic Museum are teaming up to bring you a FREE Family-Friendly Community Event where science meets the galaxy far\, far away!  Don’t miss this chance to explore science through the lens of Star Wars and join us for an evening of discovery and fun! May the force be with you! \nVisit our community partner booths\, engage in science demos with DRI and Atomic Museum scientists\, and enjoy hands-on STEM activities for all ages with DRI’s Nevada Robotics and STEM Education Program. Community Partners include: \n\nNV Mining Association\nLas Vegas Natural History Museum\nNevada State Museum\nCalPortland\nU.S. Fish and Wildlife Service\nThe Library District\nDiscovery Museum\nKNPR\nRed Rock Search and Rescue\nUNLV Early Outreach\nFire Department\nStone Security\nUniversity Police Department\nBattleBots\n\nOther events: View all events on our MTSBWY page! \n\nEngage in science demos with DRI and Atomic Museum scientists\nPhoto ops and light saber training with Star Wars fan and charity groups\nHands-on STEM activities for all ages\nCommunity partner booths\nFood Trucks\n\nDRI in Partnership with the Atomic Museum and Sponsored by CalPortland and Nevada Public Radio \nBy attending May the Science Be with You\, you acknowledge and consent to being photographed\, filmed\, or recorded by the event organizers and/or media. You further agree that your likeness\, image\, voice\, and name may be used in promotional materials\, publications\, and social media platforms without further permission or compensation. 
URL:https://www.dri.edu/event/mtsbwy2025-community-partners/
LOCATION:DRI\, Las Vegas Campus\, 755 E. Flamingo Rd.\, Las Vegas\, NV\, 89119\, United States
CATEGORIES:MTSBWY
ATTACH;FMTTYPE=image/jpeg:https://www.dri.edu/wp-content/uploads/2025-MTSBWY-Community-Partners-Event.jpg
END:VEVENT
BEGIN:VEVENT
DTSTART;TZID=America/Los_Angeles:20250501T160000
DTEND;TZID=America/Los_Angeles:20250501T190000
DTSTAMP:20260419T153054
CREATED:20250424T215745Z
LAST-MODIFIED:20250424T215745Z
UID:10000102-1746115200-1746126000@www.dri.edu
SUMMARY:Free Entry to the Atomic Museum During May the Science Be With You
DESCRIPTION:Calling all Star Wars fans and science enthusiasts! Join us on May 1st for an out-of-this-world experience! DRI and the Atomic Museum are teaming up to bring you a FREE Family-Friendly Community Event where science meets the galaxy far\, far away!  Don’t miss this chance to explore science through the lens of Star Wars and join us for an evening of discovery and fun! May the force be with you! \nAttendees of May the Science Be With You will receive free entry to the Atomic Museum during May the Science Be With You from 4:00pm to 7:00pm on Thursday\, May 1st\, 2025. \nHistory and science collide at the Atomic Museum! Engaging exhibits and artifacts share the origin and consequences of atomic weapons\, Nevada’s role in nuclear testing during the Cold War\, and the science of our atomic universe. Visitors to the Atomic Museum can explore exhibits like Atomic Odyssey\, an immersive adventure into the hidden and powerful world of the atom and The Manhattan Project: Challenges and Consequences that houses artifacts from the top-secret project of lead scientist J. Robert Oppenheimer to build the world’s first atomic bomb. The galleries of the Atomic Museum explore the formation of the Nevada Test Site\, and the people and stories surrounding the 928 nuclear tests that occurred there. Visitors can experience a simulated nuclear test in the Ground Zero Theater\, learn about atomic pop culture\, and discover the future of stockpile stewardship. \nOther events: View all events on our MTSBWY page! \n\nEngage in science demos with DRI and Atomic Museum scientists\nPhoto ops and light saber training with Star Wars fan and charity groups\nHands-on STEM activities for all ages\nCommunity partner booths\nFood Trucks\n\nDRI in Partnership with the Atomic Museum and Sponsored by CalPortland and Nevada Public Radio \n\nBy attending May the Science Be with You\, you acknowledge and consent to being photographed\, filmed\, or recorded by the event organizers and/or media. You further agree that your likeness\, image\, voice\, and name may be used in promotional materials\, publications\, and social media platforms without further permission or compensation. 
URL:https://www.dri.edu/event/mtsbwy2025-atomic-museum/
LOCATION:DRI\, Las Vegas Campus\, 755 E. Flamingo Rd.\, Las Vegas\, NV\, 89119\, United States
CATEGORIES:MTSBWY
ATTACH;FMTTYPE=image/jpeg:https://www.dri.edu/wp-content/uploads/2025-MTSBWY-Atomic-Museum-Event.jpg
END:VEVENT
BEGIN:VEVENT
DTSTART;TZID=America/Los_Angeles:20250501T160000
DTEND;TZID=America/Los_Angeles:20250501T190000
DTSTAMP:20260419T153054
CREATED:20250424T213608Z
LAST-MODIFIED:20250424T213608Z
UID:10000101-1746115200-1746126000@www.dri.edu
SUMMARY:Food Trucks at May the Science Be With You
DESCRIPTION:Calling all Star Wars fans and science enthusiasts! Join us on May 1st for an out-of-this-world experience! DRI and the Atomic Museum are teaming up to bring you a FREE Family-Friendly Community Event where science meets the galaxy far\, far away!  Don’t miss this chance to explore science through the lens of Star Wars and join us for an evening of discovery and fun! May the force be with you! \nWe will have delicious eats from several food trucks during the event! While you are there make sure to check out:\nLVTaco for authentic Mexican options and specialty tacos.\nOlé Churro bringing authentic Spanish Churros with dipping options.\nHot Dog on a Stick with fresh lemonade and hotdogs. \nOther events: View all events on our MTSBWY page! \n\nEngage in science demos with DRI and Atomic Museum scientists\nPhoto ops and light saber training with Star Wars fan and charity groups\nHands-on STEM activities for all ages\nCommunity partner booths\nFood Trucks\n\nDRI in Partnership with the Atomic Museum and Sponsored by CalPortland and Nevada Public Radio \n\nBy attending May the Science Be with You\, you acknowledge and consent to being photographed\, filmed\, or recorded by the event organizers and/or media. You further agree that your likeness\, image\, voice\, and name may be used in promotional materials\, publications\, and social media platforms without further permission or compensation. 
URL:https://www.dri.edu/event/mtsbwy2025-food-trucks/
LOCATION:DRI\, Las Vegas Campus\, 755 E. Flamingo Rd.\, Las Vegas\, NV\, 89119\, United States
CATEGORIES:MTSBWY
ATTACH;FMTTYPE=image/jpeg:https://www.dri.edu/wp-content/uploads/2025-MTSBWY-Food-Trucks-Event.jpg
END:VEVENT
BEGIN:VEVENT
DTSTART;TZID=America/Los_Angeles:20250501T160000
DTEND;TZID=America/Los_Angeles:20250501T190000
DTSTAMP:20260419T153054
CREATED:20250424T185541Z
LAST-MODIFIED:20250425T200011Z
UID:10000100-1746115200-1746126000@www.dri.edu
SUMMARY:Padawan Light Saber Training at May the Science Be With You
DESCRIPTION:Calling all Star Wars fans and science enthusiasts! Join us on May 1st for an out-of-this-world experience! DRI and the Atomic Museum are teaming up to bring you a FREE Family-Friendly Community Event where science meets the galaxy far\, far away!  Don’t miss this chance to explore science through the lens of Star Wars and join us for an evening of discovery and fun! May the force be with you! \nLearn how to use a light saber during our Padawan Light Saber Trainings with Las Vegas Star Wars Clubs featuring the Saber Guild\, Rebel Legion\, The 501st Legion\, and Las Vegas Star Wars Collective.  We will have three sessions available at 4:45\, 5:45\, and 6:30 p.m. \nOther events: View all events on our MTSBWY page! \n\nEngage in science demos with DRI and Atomic Museum scientists\nPhoto ops and light saber training with Star Wars fan and charity groups\nHands-on STEM activities for all ages\nCommunity partner booths\nFood Trucks\n\nDRI in Partnership with the Atomic Museum and Sponsored by CalPortland and Nevada Public Radio \nBy attending May the Science Be with You\, you acknowledge and consent to being photographed\, filmed\, or recorded by the event organizers and/or media. You further agree that your likeness\, image\, voice\, and name may be used in promotional materials\, publications\, and social media platforms without further permission or compensation. 
URL:https://www.dri.edu/event/mtsbwy2025-padawan-training/
LOCATION:DRI\, Las Vegas Campus\, 755 E. Flamingo Rd.\, Las Vegas\, NV\, 89119\, United States
CATEGORIES:MTSBWY
ATTACH;FMTTYPE=image/jpeg:https://www.dri.edu/wp-content/uploads/2025-MTSBWY-Padawan-Training-Event.jpg
END:VEVENT
BEGIN:VEVENT
DTSTART;TZID=America/Los_Angeles:20250501T160000
DTEND;TZID=America/Los_Angeles:20250501T190000
DTSTAMP:20260419T153054
CREATED:20250424T183611Z
LAST-MODIFIED:20250424T190117Z
UID:10000099-1746115200-1746126000@www.dri.edu
SUMMARY:Lab Tours at May the Science Be With You
DESCRIPTION:Calling all Star Wars fans and science enthusiasts! Join us on May 1st for an out-of-this-world experience! DRI and the Atomic Museum are teaming up to bring you a FREE Family-Friendly Community Event where science meets the galaxy far\, far away!  Don’t miss this chance to explore science through the lens of Star Wars and join us for an evening of discovery and fun! May the force be with you! \nLab Tours! Get a behind the scenes look at the research happening at DRI by signing up for a time slot when you arrive at the event. Look for Lab Tours Check-In table just outside of the entrance doors. Tours last one hour.\nTime slots:\n4:15 p.m.\n4:30 p.m.\n4:45 p.m.\n5:15 p.m.\n5:30 p.m.\n5:45 p.m.\n6:00 p.m. \nOther events: View all events on our MTSBWY page! \n\n\n\n\n\nEngage in science demos with DRI and Atomic Museum scientists\nPhoto ops and light saber training with Star Wars fan and charity groups\nHands-on STEM activities for all ages\nCommunity partner booths\nFood Trucks\n\n\n\n\n\nDRI in Partnership with the Atomic Museum and Sponsored by CalPortland and Nevada Public Radio \n\nBy attending May the Science Be with You\, you acknowledge and consent to being photographed\, filmed\, or recorded by the event organizers and/or media. You further agree that your likeness\, image\, voice\, and name may be used in promotional materials\, publications\, and social media platforms without further permission or compensation. 
URL:https://www.dri.edu/event/mtsbwy2025-lab-tours/
LOCATION:DRI\, Las Vegas Campus\, 755 E. Flamingo Rd.\, Las Vegas\, NV\, 89119\, United States
CATEGORIES:MTSBWY
ATTACH;FMTTYPE=image/jpeg:https://www.dri.edu/wp-content/uploads/2025-MTSBWY-Lab-Tours-Event.jpg
END:VEVENT
END:VCALENDAR