BEGIN:VCALENDAR
VERSION:2.0
PRODID:-//DRI - ECPv6.15.20//NONSGML v1.0//EN
CALSCALE:GREGORIAN
METHOD:PUBLISH
X-WR-CALNAME:DRI
X-ORIGINAL-URL:https://www.dri.edu
X-WR-CALDESC:Events for DRI
REFRESH-INTERVAL;VALUE=DURATION:PT1H
X-Robots-Tag:noindex
X-PUBLISHED-TTL:PT1H
BEGIN:VTIMEZONE
TZID:America/Los_Angeles
BEGIN:DAYLIGHT
TZOFFSETFROM:-0800
TZOFFSETTO:-0700
TZNAME:PDT
DTSTART:20230312T100000
END:DAYLIGHT
BEGIN:STANDARD
TZOFFSETFROM:-0700
TZOFFSETTO:-0800
TZNAME:PST
DTSTART:20231105T090000
END:STANDARD
BEGIN:DAYLIGHT
TZOFFSETFROM:-0800
TZOFFSETTO:-0700
TZNAME:PDT
DTSTART:20240310T100000
END:DAYLIGHT
BEGIN:STANDARD
TZOFFSETFROM:-0700
TZOFFSETTO:-0800
TZNAME:PST
DTSTART:20241103T090000
END:STANDARD
BEGIN:DAYLIGHT
TZOFFSETFROM:-0800
TZOFFSETTO:-0700
TZNAME:PDT
DTSTART:20250309T100000
END:DAYLIGHT
BEGIN:STANDARD
TZOFFSETFROM:-0700
TZOFFSETTO:-0800
TZNAME:PST
DTSTART:20251102T090000
END:STANDARD
END:VTIMEZONE
BEGIN:VEVENT
DTSTART;TZID=America/Los_Angeles:20240617T153000
DTEND;TZID=America/Los_Angeles:20240617T163000
DTSTAMP:20260419T203512
CREATED:20240614T150726Z
LAST-MODIFIED:20240614T150944Z
UID:10000042-1718638200-1718641800@www.dri.edu
SUMMARY:Solar Days at the Boulder City Library
DESCRIPTION:Join us at Boulder City Library in the Community Room for this FREE event where kids ages 6-12 can learn about energy resources\, electricity\, and solar power through our Solar Days Program sponsored by DRI’s EnergySmart Education and Southwest Gas!
URL:https://www.dri.edu/event/solardaysbcl/
LOCATION:Boulder City Library\, 701 Adams Boulevard\, Boulder City\, NV\, 89005\, United States
CATEGORIES:EnergySmart,STEM Education Program
ORGANIZER;CN="STEM Education Program":MAILTO:STEMeducation@dri.edu
END:VEVENT
BEGIN:VEVENT
DTSTART;VALUE=DATE:20240226
DTEND;VALUE=DATE:20240302
DTSTAMP:20260419T203512
CREATED:20240122T184434Z
LAST-MODIFIED:20240130T190506Z
UID:10000032-1708905600-1709337599@www.dri.edu
SUMMARY:EnergySmart Education Virtual Theatre Program
DESCRIPTION:The EnergySmart Education Virtual Theatre Program is back the week of February 26-March 1st! This musical theater presentation is available for 2nd & 3rd-grade classrooms in Nevada in areas serviced by Southwest Gas. Students will sing along with Lazy Lou\, the energy waster\, and a group of energy scientists as they learn about easy energy and water conservation techniques. Prepare to have energy songs stuck in your head all day! \nLimited performances are available. Sign up using our Google Form to join the 2024 performances! \n*Please note that there is a limit of 1 performance per school. This means only one teacher from your school is required to complete the form. Please reach out to marlie.gagliardo@gmail.com with any questions. 
URL:https://www.dri.edu/event/energysmart-education-virtual-theatre-program/
LOCATION:Sign up for a performance at your school!
CATEGORIES:EnergySmart
ATTACH;FMTTYPE=image/png:https://www.dri.edu/wp-content/uploads/energysmart-program.png
END:VEVENT
END:VCALENDAR