BEGIN:VCALENDAR
VERSION:2.0
PRODID:-//DRI - ECPv6.15.20//NONSGML v1.0//EN
CALSCALE:GREGORIAN
METHOD:PUBLISH
X-WR-CALNAME:DRI
X-ORIGINAL-URL:https://www.dri.edu
X-WR-CALDESC:Events for DRI
REFRESH-INTERVAL;VALUE=DURATION:PT1H
X-Robots-Tag:noindex
X-PUBLISHED-TTL:PT1H
BEGIN:VTIMEZONE
TZID:America/Los_Angeles
BEGIN:DAYLIGHT
TZOFFSETFROM:-0800
TZOFFSETTO:-0700
TZNAME:PDT
DTSTART:20220313T100000
END:DAYLIGHT
BEGIN:STANDARD
TZOFFSETFROM:-0700
TZOFFSETTO:-0800
TZNAME:PST
DTSTART:20221106T090000
END:STANDARD
BEGIN:DAYLIGHT
TZOFFSETFROM:-0800
TZOFFSETTO:-0700
TZNAME:PDT
DTSTART:20230312T100000
END:DAYLIGHT
BEGIN:STANDARD
TZOFFSETFROM:-0700
TZOFFSETTO:-0800
TZNAME:PST
DTSTART:20231105T090000
END:STANDARD
BEGIN:DAYLIGHT
TZOFFSETFROM:-0800
TZOFFSETTO:-0700
TZNAME:PDT
DTSTART:20240310T100000
END:DAYLIGHT
BEGIN:STANDARD
TZOFFSETFROM:-0700
TZOFFSETTO:-0800
TZNAME:PST
DTSTART:20241103T090000
END:STANDARD
END:VTIMEZONE
BEGIN:VEVENT
DTSTART;TZID=America/Los_Angeles:20231116T190000
DTEND;TZID=America/Los_Angeles:20231116T210000
DTSTAMP:20260422T190203
CREATED:20231016T185855Z
LAST-MODIFIED:20231020T192533Z
UID:143234-1700161200-1700168400@www.dri.edu
SUMMARY:The Story of Far\, Far Away
DESCRIPTION:In this final event in our season\, Science Distilled departs from Earth and takes you on a journey to explore the beyond. Join our speakers as they share stories about quantum theory\, astrobiology\, and how the research of life in extreme environments on Earth can give us clues about where to look for life beyond our planet. \nLocation: Downtown Reno Library \nPurchase tickets through The Discovery: https://nvdm.org/exhibitions-and-events/science-distilled/  \n\nIn partnership with:\n\nSponsored by:\n  \n   
URL:https://www.dri.edu/event/the-story-of-far-far-away/
LOCATION:Downtown Reno Library\, 301 S. Center Street\, Reno\, NV\, 89501\, United States
CATEGORIES:Science Distilled
ATTACH;FMTTYPE=image/png:https://www.dri.edu/wp-content/uploads/MicrosoftTeams-image-2.png
END:VEVENT
END:VCALENDAR