BEGIN:VCALENDAR
VERSION:2.0
PRODID:-//DRI - ECPv6.15.20//NONSGML v1.0//EN
CALSCALE:GREGORIAN
METHOD:PUBLISH
X-WR-CALNAME:DRI
X-ORIGINAL-URL:https://www.dri.edu
X-WR-CALDESC:Events for DRI
REFRESH-INTERVAL;VALUE=DURATION:PT1H
X-Robots-Tag:noindex
X-PUBLISHED-TTL:PT1H
BEGIN:VTIMEZONE
TZID:America/Los_Angeles
BEGIN:DAYLIGHT
TZOFFSETFROM:-0800
TZOFFSETTO:-0700
TZNAME:PDT
DTSTART:20230312T100000
END:DAYLIGHT
BEGIN:STANDARD
TZOFFSETFROM:-0700
TZOFFSETTO:-0800
TZNAME:PST
DTSTART:20231105T090000
END:STANDARD
BEGIN:DAYLIGHT
TZOFFSETFROM:-0800
TZOFFSETTO:-0700
TZNAME:PDT
DTSTART:20240310T100000
END:DAYLIGHT
BEGIN:STANDARD
TZOFFSETFROM:-0700
TZOFFSETTO:-0800
TZNAME:PST
DTSTART:20241103T090000
END:STANDARD
BEGIN:DAYLIGHT
TZOFFSETFROM:-0800
TZOFFSETTO:-0700
TZNAME:PDT
DTSTART:20250309T100000
END:DAYLIGHT
BEGIN:STANDARD
TZOFFSETFROM:-0700
TZOFFSETTO:-0800
TZNAME:PST
DTSTART:20251102T090000
END:STANDARD
END:VTIMEZONE
BEGIN:VEVENT
DTSTART;TZID=America/Los_Angeles:20240824T080000
DTEND;TZID=America/Los_Angeles:20240824T110000
DTSTAMP:20260420T142757
CREATED:20240627T225754Z
LAST-MODIFIED:20240814T204823Z
UID:1379388-1724486400-1724497200@www.dri.edu
SUMMARY:Fall Professional Development Trainings - Microscopes: Art & Science
DESCRIPTION:Discover the intersection of art and science with DRI’s STEM Education Program’s FREE educator professional development training Microscopes: Science and Art! Explore how microscopic worlds inspire creativity and deepen scientific inquiry in your classroom. Equip yourself with versatile teaching strategies that bridge disciplines and ignite curiosity among your students. A limited number of microscopes and digital cameras from our STEM Co-Lab Lending Library will be available for check-out at the end of the training! \nEducators who complete the session will receive a certificate of completion for up to 3 Continuing Education Hours. \nRegister now using our form! 
URL:https://www.dri.edu/event/fall2024-pd-microscopes/
LOCATION:DRI\, Las Vegas Campus\, 755 E. Flamingo Rd.\, Las Vegas\, NV\, 89119\, United States
CATEGORIES:STEM Education Program
END:VEVENT
END:VCALENDAR